BEGIN:VCALENDAR
VERSION:2.0
PRODID:-//Tribunal Electoral del Estado de San Luis Potosí - ECPv6.14.1//NONSGML v1.0//EN
CALSCALE:GREGORIAN
METHOD:PUBLISH
X-ORIGINAL-URL:https://www.teeslp.gob.mx
X-WR-CALDESC:Eventos para Tribunal Electoral del Estado de San Luis Potosí
REFRESH-INTERVAL;VALUE=DURATION:PT1H
X-Robots-Tag:noindex
X-PUBLISHED-TTL:PT1H
BEGIN:VTIMEZONE
TZID:America/Mexico_City
BEGIN:STANDARD
TZOFFSETFROM:-0600
TZOFFSETTO:-0600
TZNAME:CST
DTSTART:20260101T000000
END:STANDARD
END:VTIMEZONE
BEGIN:VEVENT
DTSTART;TZID=America/Mexico_City:20260226T120000
DTEND;TZID=America/Mexico_City:20260226T123000
DTSTAMP:20260423T152759
CREATED:20260225T183911Z
LAST-MODIFIED:20260227T152633Z
UID:39681-1772107200-1772109000@www.teeslp.gob.mx
SUMMARY:Sesión Jurisdiccional 04 (26-02-2026)
DESCRIPTION:Número\nAviso de sesión\nActa de Sesión\nAcuerdo(s)/Sentencia(s)\nVideo\n\n\n04\n		\n				\n		\n\nTESLP/PSE/05/2025\n\n\n\n\n\n\nTESLP/JDC/03/2026\n\n\n\n\n 
URL:https://www.teeslp.gob.mx/calendario/sesion-jurisdiccional-04-26-02-2026/
LOCATION:Tribunal Electoral del Estado de San Luis Potosí\, Sierra Gador 116\, Lomas Cuarta Sección\, San Luis Potosí\, S.L.P. México\, San Luis Potosí\, 78216\, México
CATEGORIES:Sesiones,Sesiones jurisdiccionales
ORGANIZER;CN="Tribunal Electoral del Estado de San Luis Potos%C3%AD":MAILTO:sgteslp@outlook.com
END:VEVENT
END:VCALENDAR