BEGIN:VCALENDAR
VERSION:2.0
PRODID:-//Tribunal Electoral del Estado de San Luis Potosí - ECPv6.14.1//NONSGML v1.0//EN
CALSCALE:GREGORIAN
METHOD:PUBLISH
X-WR-CALNAME:Tribunal Electoral del Estado de San Luis Potosí
X-ORIGINAL-URL:https://www.teeslp.gob.mx
X-WR-CALDESC:Eventos para Tribunal Electoral del Estado de San Luis Potosí
REFRESH-INTERVAL;VALUE=DURATION:PT1H
X-Robots-Tag:noindex
X-PUBLISHED-TTL:PT1H
BEGIN:VTIMEZONE
TZID:America/Mexico_City
BEGIN:STANDARD
TZOFFSETFROM:-0600
TZOFFSETTO:-0600
TZNAME:CST
DTSTART:20250101T000000
END:STANDARD
END:VTIMEZONE
BEGIN:VEVENT
DTSTART;TZID=America/Mexico_City:20250910T140000
DTEND;TZID=America/Mexico_City:20250910T143000
DTSTAMP:20260423T234306
CREATED:20250910T152232Z
LAST-MODIFIED:20250910T213027Z
UID:38705-1757512800-1757514600@www.teeslp.gob.mx
SUMMARY:Sesión Jurisdiccional 38 (10-09-2025)
DESCRIPTION:Número\nAviso de sesión\nActa de Sesión\nAcuerdo(s)/Sentencia(s)\nVideo\n\n\n38\n		\n				\n		\n\nTESLP/JDC/110/2025 \n﻿\n\n\n\n\n\nTESLP/PSE/02/2025 \n\n\n\n\n\n\nTESLP/JDC/110/2024 \n\n\n\n\n\n\nTESLP/PSE/06/2025\n\n\n\n\n\n\nTESLP/JDC/113/2025
URL:https://www.teeslp.gob.mx/calendario/sesion-jurisdiccional-38-11-09-2025/
LOCATION:Tribunal Electoral del Estado de San Luis Potosí\, Sierra Gador 116\, Lomas Cuarta Sección\, San Luis Potosí\, S.L.P. México\, San Luis Potosí\, 78216\, México
CATEGORIES:Sesiones,Sesiones jurisdiccionales
ORGANIZER;CN="Tribunal Electoral del Estado de San Luis Potos%C3%AD":MAILTO:sgteslp@outlook.com
END:VEVENT
BEGIN:VEVENT
DTSTART;TZID=America/Mexico_City:20250924T123000
DTEND;TZID=America/Mexico_City:20250924T130000
DTSTAMP:20260423T234306
CREATED:20250923T183655Z
LAST-MODIFIED:20250924T200300Z
UID:38785-1758717000-1758718800@www.teeslp.gob.mx
SUMMARY:Sesión Jurisdiccional 39 (24-09-2025)
DESCRIPTION:Número\nAviso de sesión\nActa de Sesión\nAcuerdo(s)/Sentencia(s)\nVideo\n\n\n39\n		\n				\n		\n\nTESLP/JDC/67/2019\n﻿\n\n\n\n\n\nTESLP/JDC/114/2025 \n\n\n\n\n\n\nTESLP/PSE/07/2025\n\n\n\n\n\n\nTESLP/JDC/115/2025
URL:https://www.teeslp.gob.mx/calendario/sesion-jurisdiccional-39-24-09-2025/
LOCATION:Tribunal Electoral del Estado de San Luis Potosí\, Sierra Gador 116\, Lomas Cuarta Sección\, San Luis Potosí\, S.L.P. México\, San Luis Potosí\, 78216\, México
CATEGORIES:Sesiones,Sesiones jurisdiccionales
ORGANIZER;CN="Tribunal Electoral del Estado de San Luis Potos%C3%AD":MAILTO:sgteslp@outlook.com
END:VEVENT
END:VCALENDAR