BEGIN:VCALENDAR
VERSION:2.0
PRODID:-//Tribunal Electoral del Estado de San Luis Potosí - ECPv6.14.1//NONSGML v1.0//EN
CALSCALE:GREGORIAN
METHOD:PUBLISH
X-ORIGINAL-URL:https://www.teeslp.gob.mx
X-WR-CALDESC:Eventos para Tribunal Electoral del Estado de San Luis Potosí
REFRESH-INTERVAL;VALUE=DURATION:PT1H
X-Robots-Tag:noindex
X-PUBLISHED-TTL:PT1H
BEGIN:VTIMEZONE
TZID:America/Mexico_City
BEGIN:STANDARD
TZOFFSETFROM:-0600
TZOFFSETTO:-0600
TZNAME:CST
DTSTART:20250101T000000
END:STANDARD
END:VTIMEZONE
BEGIN:VEVENT
DTSTART;TZID=America/Mexico_City:20250401T070000
DTEND;TZID=America/Mexico_City:20250401T073000
DTSTAMP:20260424T064027
CREATED:20250331T172232Z
LAST-MODIFIED:20250714T211436Z
UID:36058-1743490800-1743492600@www.teeslp.gob.mx
SUMMARY:Sesión Jurisdiccional 17 (01-04-2025)
DESCRIPTION:  \n\n\n\nNúmero\nAviso de sesión\nActa de Sesión\nAcuerdo(s)/Sentencia(s)\nVideo\n\n\n17\n		\n				\n		\n\nTESLP/JDC/65/2025    y TESLP/RR/06/2025  \n  \n  \n \n﻿
URL:https://www.teeslp.gob.mx/calendario/sesion-jurisdiccional-17-01-04-2025/
LOCATION:Tribunal Electoral del Estado de San Luis Potosí\, Sierra Gador 116\, Lomas Cuarta Sección\, San Luis Potosí\, S.L.P. México\, San Luis Potosí\, 78216\, México
CATEGORIES:Sesiones,Sesiones jurisdiccionales
ORGANIZER;CN="Tribunal Electoral del Estado de San Luis Potos%C3%AD":MAILTO:sgteslp@outlook.com
END:VEVENT
BEGIN:VEVENT
DTSTART;TZID=America/Mexico_City:20250403T063000
DTEND;TZID=America/Mexico_City:20250403T070000
DTSTAMP:20260424T064027
CREATED:20250403T183607Z
LAST-MODIFIED:20250714T211231Z
UID:36086-1743661800-1743663600@www.teeslp.gob.mx
SUMMARY:Sesión Jurisdiccional 18 (04-04-2025)
DESCRIPTION:  \n\n\n\nNúmero\nAviso de sesión\nActa de Sesión\nAcuerdo(s)/Sentencia(s)\nVideo\n\n\n18\n		\n				\n		\n\nTESLP/JDC/45/2025 y sus consecutivos TESLP/JDC/46/2025 al TESLP/JDC/55/2025 y del TESLP/JDC/57/2025 y sus consecutivos TESLP/JDC/64/2025\n﻿\n\n\n\n\n\nTESLP/JDC/56/2025\n\n\n\n\n\nTESLP/JDC/66/2025\, TESLP/JDC/67/2025\, TESLP/JDC/68/2025\, TESLP/JDC/69/2025\, TESLP/JDC/70/2025\, TESLP/JDC/71/2025\, TESLP/JDC/72/2025\, TESLP/JDC/73/2025     y TESLP/JDC/74/2025\n\n\n\n\n\n\nTESLP/JDC/126/2024 y su acumulado TESLP/JDC/127/2024
URL:https://www.teeslp.gob.mx/calendario/sesion-jurisdiccional-17-04-04-2025/
LOCATION:Tribunal Electoral del Estado de San Luis Potosí\, Sierra Gador 116\, Lomas Cuarta Sección\, San Luis Potosí\, S.L.P. México\, San Luis Potosí\, 78216\, México
CATEGORIES:Sesiones,Sesiones jurisdiccionales
ORGANIZER;CN="Tribunal Electoral del Estado de San Luis Potos%C3%AD":MAILTO:sgteslp@outlook.com
END:VEVENT
BEGIN:VEVENT
DTSTART;TZID=America/Mexico_City:20250425T073000
DTEND;TZID=America/Mexico_City:20250425T083000
DTSTAMP:20260424T064027
CREATED:20250424T193351Z
LAST-MODIFIED:20250714T211028Z
UID:36388-1745566200-1745569800@www.teeslp.gob.mx
SUMMARY:Sesión Jurisdiccional 19 (25-04-2025)
DESCRIPTION:  \n  \n\n\n\nNúmero\nAviso de sesión\nActa de Sesión\nAcuerdo(s)/Sentencia(s)\nVideo\n\n\n 19\n		\n				\n		\n\nTESLP/JDC/79/2025\, TESLP/JDC/80/2025\, TESLP/JDC/81/2025\, TESLP/JDC/82/2025\, TESLP/JDC/83/2025\, TESLP/JDC/84/2025\, TESLP/JDC/85/2025 Y TESLP/JDC/86/2025\n﻿\n\n\n\n\n\nTESLP/RR/07/2025\n\n\n\n\n\n\nTESLP/JDC/75/2025\, TESLP/JDC/76/2025\, TESLP/JDC/77/2025\, TESLP/JDC/78/2025\,\n\n\n\n\n\n\nTESLP/RR/08/2025\, TESLP/RR/09/2025\, TESLP/RR/10/2025\, TESLP/RR/11/2025\n\n\n\n\n\n\nTESLP/RR/12/2025\n\n\n\n\n\n\nTESLP/AG/02/2025
URL:https://www.teeslp.gob.mx/calendario/sesion-jurisdiccional-19-25-04-2025/
LOCATION:Tribunal Electoral del Estado de San Luis Potosí\, Sierra Gador 116\, Lomas Cuarta Sección\, San Luis Potosí\, S.L.P. México\, San Luis Potosí\, 78216\, México
CATEGORIES:Sesiones,Sesiones jurisdiccionales
ORGANIZER;CN="Tribunal Electoral del Estado de San Luis Potos%C3%AD":MAILTO:sgteslp@outlook.com
END:VEVENT
BEGIN:VEVENT
DTSTART;TZID=America/Mexico_City:20250429T080000
DTEND;TZID=America/Mexico_City:20250429T083000
DTSTAMP:20260424T064028
CREATED:20250428T195601Z
LAST-MODIFIED:20250714T210832Z
UID:36439-1745913600-1745915400@www.teeslp.gob.mx
SUMMARY:Sesión Jurisdiccional 20 (29-04-2025)
DESCRIPTION:  \n  \n\n\n\nNúmero\nAviso de sesión\nActa de Sesión\nAcuerdo(s)/Sentencia(s)\nVideo\n\n\n 20\n		\n				\n		\n\nTESLP/RR/13/2025\n﻿
URL:https://www.teeslp.gob.mx/calendario/sesion-jurisdiccional-20-29-04-2025/
LOCATION:Tribunal Electoral del Estado de San Luis Potosí\, Sierra Gador 116\, Lomas Cuarta Sección\, San Luis Potosí\, S.L.P. México\, San Luis Potosí\, 78216\, México
CATEGORIES:Sesiones,Sesiones jurisdiccionales
ORGANIZER;CN="Tribunal Electoral del Estado de San Luis Potos%C3%AD":MAILTO:sgteslp@outlook.com
END:VEVENT
END:VCALENDAR