BEGIN:VCALENDAR
VERSION:2.0
PRODID:-//Tribunal Electoral del Estado de San Luis Potosí - ECPv6.14.1//NONSGML v1.0//EN
CALSCALE:GREGORIAN
METHOD:PUBLISH
X-WR-CALNAME:Tribunal Electoral del Estado de San Luis Potosí
X-ORIGINAL-URL:https://www.teeslp.gob.mx
X-WR-CALDESC:Eventos para Tribunal Electoral del Estado de San Luis Potosí
REFRESH-INTERVAL;VALUE=DURATION:PT1H
X-Robots-Tag:noindex
X-PUBLISHED-TTL:PT1H
BEGIN:VTIMEZONE
TZID:America/Mexico_City
BEGIN:STANDARD
TZOFFSETFROM:-0600
TZOFFSETTO:-0600
TZNAME:CST
DTSTART:20250101T000000
END:STANDARD
END:VTIMEZONE
BEGIN:VEVENT
DTSTART;TZID=America/Mexico_City:20250207T070000
DTEND;TZID=America/Mexico_City:20250207T073000
DTSTAMP:20260424T094552
CREATED:20250206T182421Z
LAST-MODIFIED:20250715T055731Z
UID:34990-1738911600-1738913400@www.teeslp.gob.mx
SUMMARY:Sesión Jurisdiccional 05 (07-02-2025)
DESCRIPTION:  \n  \n  \n\n\n\nNúmero\nAviso de sesión\nActa de Sesión\nAcuerdo(s)/Sentencia(s)\nVideo\n\n\n05\n		\n				\n		\n\nTESLP/JDC/110/2024 \n﻿\n\n\n\n\n\nTESLP/JDC/102/2024 \n\n\n\n\n\nTESLP/RR/42/2024 \n\n\n\n\n\n\n \n\n\n\n\n\n\n\n\n\n\n\n\n\n\n\n\n\n\n\n\n\n\n\n\n\n\n\n    \n  \n  \n  \n  \n  \n 
URL:https://www.teeslp.gob.mx/calendario/sesion-jurisdiccional-05-07-02-2025/
LOCATION:Tribunal Electoral del Estado de San Luis Potosí\, Sierra Gador 116\, Lomas Cuarta Sección\, San Luis Potosí\, S.L.P. México\, San Luis Potosí\, 78216\, México
CATEGORIES:Sesiones,Sesiones jurisdiccionales
ORGANIZER;CN="Tribunal Electoral del Estado de San Luis Potos%C3%AD":MAILTO:sgteslp@outlook.com
END:VEVENT
BEGIN:VEVENT
DTSTART;TZID=America/Mexico_City:20250210T090000
DTEND;TZID=America/Mexico_City:20250210T093000
DTSTAMP:20260424T094552
CREATED:20250207T211541Z
LAST-MODIFIED:20250715T055535Z
UID:35026-1739178000-1739179800@www.teeslp.gob.mx
SUMMARY:Sesión Jurisdiccional 06 (10-02-2025)
DESCRIPTION:  \n  \n  \n\n\n\nNúmero\nAviso de sesión\nActa de Sesión\nAcuerdo(s)/Sentencia(s)\nVideo\n\n\n06\n		\n				\n		\n\nTESLP/JDC/002/2025 \n﻿\n\n\n\n\n\nTESLP/PSE/02/2024 \n\n\n\n\n\nTESLP/JDC/006/2025\n\n\n\n\n\n\nTESLP/JDC/007/2025 \n\n\n\n\n\nTESLP/JDC/005/2025\n\n\n\n\n\n\n\n\n\n\n\n\n\n\n\n\n\n\n\n\n\n    \n  \n  \n  \n  \n  \n 
URL:https://www.teeslp.gob.mx/calendario/sesion-jurisdiccional-06-10-02-2025/
LOCATION:Tribunal Electoral del Estado de San Luis Potosí\, Sierra Gador 116\, Lomas Cuarta Sección\, San Luis Potosí\, S.L.P. México\, San Luis Potosí\, 78216\, México
CATEGORIES:Sesiones,Sesiones jurisdiccionales
ORGANIZER;CN="Tribunal Electoral del Estado de San Luis Potos%C3%AD":MAILTO:sgteslp@outlook.com
END:VEVENT
BEGIN:VEVENT
DTSTART;TZID=America/Mexico_City:20250211T200000
DTEND;TZID=America/Mexico_City:20250211T203000
DTSTAMP:20260424T094552
CREATED:20250212T015327Z
LAST-MODIFIED:20250715T055343Z
UID:35095-1739304000-1739305800@www.teeslp.gob.mx
SUMMARY:Sesión Jurisdiccional 07 (11-02-2025)
DESCRIPTION:  \n\n\n\nNúmero\nAviso de sesión\nActa de Sesión\nAcuerdo(s)/Sentencia(s)\nVideo\n\n\n07\n		\n				\n		\n\n  \nTESLP/JDC/008/2025 \n\n\n\n\n\n\n\n\n\n\n\n\n\n\n\n\n\n  \n  \n  \n  \n 
URL:https://www.teeslp.gob.mx/calendario/sesion-jurisdiccional-07-11-02-2025/
LOCATION:Tribunal Electoral del Estado de San Luis Potosí\, Sierra Gador 116\, Lomas Cuarta Sección\, San Luis Potosí\, S.L.P. México\, San Luis Potosí\, 78216\, México
CATEGORIES:Sesiones,Sesiones jurisdiccionales
ORGANIZER;CN="Tribunal Electoral del Estado de San Luis Potos%C3%AD":MAILTO:sgteslp@outlook.com
END:VEVENT
BEGIN:VEVENT
DTSTART;TZID=America/Mexico_City:20250212T090000
DTEND;TZID=America/Mexico_City:20250212T093000
DTSTAMP:20260424T094552
CREATED:20250212T183252Z
LAST-MODIFIED:20250715T055157Z
UID:35108-1739350800-1739352600@www.teeslp.gob.mx
SUMMARY:Sesión Jurisdiccional 08 (12-02-2025)
DESCRIPTION:  \n\n\n\nNúmero\nAviso de sesión\nActa de Sesión\nAcuerdo(s)/Sentencia(s)\nVideo\n\n\n08\n		\n				\n		\n\n  \nTESLP/JDC/009/2025 \n﻿\n\n\n\n\n\n\n\n\n\n\n\n\n\n\n\n\n  \n  \n  \n  \n 
URL:https://www.teeslp.gob.mx/calendario/sesion-jurisdiccional-08-12-02-2025/
LOCATION:Tribunal Electoral del Estado de San Luis Potosí\, Sierra Gador 116\, Lomas Cuarta Sección\, San Luis Potosí\, S.L.P. México\, San Luis Potosí\, 78216\, México
CATEGORIES:Sesiones,Sesiones jurisdiccionales
ORGANIZER;CN="Tribunal Electoral del Estado de San Luis Potos%C3%AD":MAILTO:sgteslp@outlook.com
END:VEVENT
BEGIN:VEVENT
DTSTART;TZID=America/Mexico_City:20250214T063000
DTEND;TZID=America/Mexico_City:20250214T070000
DTSTAMP:20260424T094552
CREATED:20250213T191141Z
LAST-MODIFIED:20250715T055015Z
UID:35137-1739514600-1739516400@www.teeslp.gob.mx
SUMMARY:Sesión Jurisdiccional 09 (14-02-2025)
DESCRIPTION:  \n  \n  \n\n\n\nNúmero\nAviso de sesión\nActa de Sesión\nAcuerdo(s)/Sentencia(s)\nVideo\n\n\n09\n		\n				\n		\n\n  \nTESLP/JDC/126/2024 y su acumulado TESLP/JDC/127/2024\n﻿\n\n\n\n\n\nTESLP/JDC/006/2025\n\n\n\n\n\nTESLP/JDC/005/2025\n\n\n\n\n\n\nTESLP/JDC/007/2025\n\n\n\n\n\n\nTESLP/JDC/016/2025\n\n\n\n  \n  \n  \n  \n 
URL:https://www.teeslp.gob.mx/calendario/sesion-jurisdiccional-09-14-02-2025/
LOCATION:Tribunal Electoral del Estado de San Luis Potosí\, Sierra Gador 116\, Lomas Cuarta Sección\, San Luis Potosí\, S.L.P. México\, San Luis Potosí\, 78216\, México
CATEGORIES:Sesiones,Sesiones jurisdiccionales
ORGANIZER;CN="Tribunal Electoral del Estado de San Luis Potos%C3%AD":MAILTO:sgteslp@outlook.com
END:VEVENT
BEGIN:VEVENT
DTSTART;TZID=America/Mexico_City:20250221T070000
DTEND;TZID=America/Mexico_City:20250221T073000
DTSTAMP:20260424T094552
CREATED:20250220T184734Z
LAST-MODIFIED:20250715T054808Z
UID:35296-1740121200-1740123000@www.teeslp.gob.mx
SUMMARY:Sesión Jurisdiccional 10 (21-02-2025)
DESCRIPTION:  \n  \n  \n\n\n\nNúmero\nAviso de sesión\nActa de Sesión\nAcuerdo(s)/Sentencia(s)\nVideo\n\n\n10\n		\n				\n		\n\n  \nTESLP/JDC/128/2024 \n﻿\n\n\n\n\n\nTESLP/JDC/18/2025    TESLP/JDC/19/2025   \n\n\n\n\n\nTESLP/AG/01/2025\n\n\n\n\n\n\n\n\n\n\n\n\n\n\n\n\n\n  \n  \n  \n  \n 
URL:https://www.teeslp.gob.mx/calendario/sesion-jurisdiccional-10-21-02-2025/
LOCATION:Tribunal Electoral del Estado de San Luis Potosí\, Sierra Gador 116\, Lomas Cuarta Sección\, San Luis Potosí\, S.L.P. México\, San Luis Potosí\, 78216\, México
CATEGORIES:Sesiones,Sesiones jurisdiccionales
ORGANIZER;CN="Tribunal Electoral del Estado de San Luis Potos%C3%AD":MAILTO:sgteslp@outlook.com
END:VEVENT
BEGIN:VEVENT
DTSTART;TZID=America/Mexico_City:20250226T063000
DTEND;TZID=America/Mexico_City:20250226T070000
DTSTAMP:20260424T094552
CREATED:20250224T204547Z
LAST-MODIFIED:20250714T225652Z
UID:35392-1740551400-1740553200@www.teeslp.gob.mx
SUMMARY:Sesión Jurisdiccional 11 (26-02-2025)
DESCRIPTION:  \n\n\n\nNúmero\nAviso de sesión\nActa de Sesión\nAcuerdo(s)/Sentencia(s)\nVideo\n\n\n11\n		\n				\n		\n\nTESLP/JDC/22/2025 TESLP/JDC/23/2025\, TESLP/JDC/24/2025\, TESLP/JDC/25/2025\, TESLP/JDC/26/2025 Y TESLP/JDC/27/2025\n﻿\n\n\n\n\n\nTESLP/JDC/28/2025  \n\n\n\n\n\nTESLP/JDC/94/2024\n\n\n\n\n\n\nTESLP/JDC/30/2025\n\n\n\n\n\n\nTESLP/JDC/29/2025\n\n\n\n\n\n\n\nTESLP/JDC/10/2025\, TESLP/JDC/11/2025\, TESLP/JDC/12/2025\, TESLP/JDC/13/2025 y TESLP/JDC/14/2025\n\n\n\n\n\n\n\nTESLP/JDC/15/2025\n\n\n\n\n\n 
URL:https://www.teeslp.gob.mx/calendario/sesion-jurisdiccional-11-26-02-2025/
LOCATION:Tribunal Electoral del Estado de San Luis Potosí\, Sierra Gador 116\, Lomas Cuarta Sección\, San Luis Potosí\, S.L.P. México\, San Luis Potosí\, 78216\, México
CATEGORIES:Sesiones,Sesiones jurisdiccionales
ORGANIZER;CN="Tribunal Electoral del Estado de San Luis Potos%C3%AD":MAILTO:sgteslp@outlook.com
END:VEVENT
BEGIN:VEVENT
DTSTART;TZID=America/Mexico_City:20250228T060000
DTEND;TZID=America/Mexico_City:20250228T063000
DTSTAMP:20260424T094552
CREATED:20250228T005825Z
LAST-MODIFIED:20250714T225333Z
UID:35481-1740722400-1740724200@www.teeslp.gob.mx
SUMMARY:Sesión Jurisdiccional 12 (28-02-2025)
DESCRIPTION:  \n\n\n\nNúmero\nAviso de sesión\nActa de Sesión\nAcuerdo(s)/Sentencia(s)\nVideo\n\n\n12\n		\n				\n		\n\nTESLP/JDC/31/2025\n﻿\n\n\n\n\n\nTESLP/JDC/16/2025  \n\n\n\n\n\nTESLP/JDC/33/2025\n\n\n\n\n\n\nTESLP/JDC/22/2025 y sus acumulados\n\n\n\n\n\n\n\n\n\n\n\n\n\n\n\n\n\n\n\n\n\n\n\n\n\n\n\n\n 
URL:https://www.teeslp.gob.mx/calendario/sesion-jurisdiccional-12-28-02-2025/
LOCATION:Tribunal Electoral del Estado de San Luis Potosí\, Sierra Gador 116\, Lomas Cuarta Sección\, San Luis Potosí\, S.L.P. México\, San Luis Potosí\, 78216\, México
CATEGORIES:Sesiones,Sesiones jurisdiccionales
ORGANIZER;CN="Tribunal Electoral del Estado de San Luis Potos%C3%AD":MAILTO:sgteslp@outlook.com
END:VEVENT
END:VCALENDAR