BEGIN:VCALENDAR
VERSION:2.0
PRODID:-//Tribunal Electoral del Estado de San Luis Potosí - ECPv6.14.1//NONSGML v1.0//EN
CALSCALE:GREGORIAN
METHOD:PUBLISH
X-ORIGINAL-URL:https://www.teeslp.gob.mx
X-WR-CALDESC:Eventos para Tribunal Electoral del Estado de San Luis Potosí
REFRESH-INTERVAL;VALUE=DURATION:PT1H
X-Robots-Tag:noindex
X-PUBLISHED-TTL:PT1H
BEGIN:VTIMEZONE
TZID:America/Mexico_City
BEGIN:STANDARD
TZOFFSETFROM:-0600
TZOFFSETTO:-0600
TZNAME:CST
DTSTART:20240101T000000
END:STANDARD
END:VTIMEZONE
BEGIN:VEVENT
DTSTART;TZID=America/Mexico_City:20241205T080000
DTEND;TZID=America/Mexico_City:20241205T170000
DTSTAMP:20260424T123930
CREATED:20241204T211318Z
LAST-MODIFIED:20250729T172645Z
UID:34369-1733385600-1733418000@www.teeslp.gob.mx
SUMMARY:Sesión Jurisdiccional 58 (05-12-2024)
DESCRIPTION:  \n  \n\n\n\nNúmero\nAviso de sesión\nActa de Sesión\nAcuerdo(s)/Sentencia(s)\nVideo\n\n\n  \n58\n		\n		[icon type=”vector” icon=”momizat-icon-signup” align=”center” size=”32″ hover_animation=”border_increase” ]		\n		\n  \n[icon type=”vector” icon=”momizat-icon-file-pdf” align=”center” size=”32″ hover_animation=”border_increase” ]\n  \nTESLP/JDC/110/2024\n﻿\n\n\n\n\n\nTESLP/JDC/114/2024 \n\n\n\n\n\nTESLP/JDC/96/2024\n\n\n\n\n\n\nTESLP/JDC/121/2024\n\n\n\n    \n  \n  \n  \n  \n  \n 
URL:https://www.teeslp.gob.mx/calendario/sesion-jurisdiccional-58-05-12-2024/
LOCATION:Tribunal Electoral del Estado de San Luis Potosí\, Sierra Gador 116\, Lomas Cuarta Sección\, San Luis Potosí\, S.L.P. México\, San Luis Potosí\, 78216\, México
CATEGORIES:Sesiones,Sesiones jurisdiccionales
ORGANIZER;CN="Tribunal Electoral del Estado de San Luis Potos%C3%AD":MAILTO:sgteslp@outlook.com
END:VEVENT
BEGIN:VEVENT
DTSTART;TZID=America/Mexico_City:20241206T060000
DTEND;TZID=America/Mexico_City:20241206T063000
DTSTAMP:20260424T123930
CREATED:20241205T201102Z
LAST-MODIFIED:20250729T172743Z
UID:34398-1733464800-1733466600@www.teeslp.gob.mx
SUMMARY:Sesión Jurisdiccional 59 (06-12-2024)
DESCRIPTION:  \n  \n\n\n\nNúmero\nAviso de sesión\nActa de Sesión\nAcuerdo(s)/Sentencia(s)\nVideo\n\n\n  \n59\n		\n		[icon type=”vector” icon=”momizat-icon-signup” align=”center” size=”32″ hover_animation=”border_increase” ]		\n		\n  \n[icon type=”vector” icon=”momizat-icon-file-pdf” align=”center” size=”32″ hover_animation=”border_increase” ]\n  \nTESLP/JDC/115/2024\n﻿\n\n\n\n\n\n\n\n\n\n\n\n\n\n\n\n\n\n\n\n\n\n\n    \n  \n  \n  \n  \n  \n 
URL:https://www.teeslp.gob.mx/calendario/sesion-jurisdiccional-59-06-12-2024/
LOCATION:Tribunal Electoral del Estado de San Luis Potosí\, Sierra Gador 116\, Lomas Cuarta Sección\, San Luis Potosí\, S.L.P. México\, San Luis Potosí\, 78216\, México
CATEGORIES:Sesiones,Sesiones jurisdiccionales
ORGANIZER;CN="Tribunal Electoral del Estado de San Luis Potos%C3%AD":MAILTO:sgteslp@outlook.com
END:VEVENT
BEGIN:VEVENT
DTSTART;TZID=America/Mexico_City:20241218T053000
DTEND;TZID=America/Mexico_City:20241218T063000
DTSTAMP:20260424T123931
CREATED:20241216T195934Z
LAST-MODIFIED:20250729T173004Z
UID:34457-1734499800-1734503400@www.teeslp.gob.mx
SUMMARY:Sesión Jurisdiccional 60 (18-12-2024)
DESCRIPTION:  \n  \n\n\n\nNúmero\nAviso de sesión\nActa de Sesión\nAcuerdo(s)/Sentencia(s)\nVideo\n\n\n  \n60\n		\n		[icon type=”vector” icon=”momizat-icon-signup” align=”center” size=”32″ hover_animation=”border_increase” ]		\n		\n  \n[icon type=”vector” icon=”momizat-icon-file-pdf” align=”center” size=”32″ hover_animation=”border_increase” ]\n  \nTESLP/JDC/122/2024\n﻿\n\n\n\n\n\nTESLP/JDC/124/2024\n\n\n\n\n\nTESLP/JDC/116/2024\n\n\n\n\n\n\n\n\n\n\n    \n  \n  \n  \n  \n  \n 
URL:https://www.teeslp.gob.mx/calendario/sesion-jurisdiccional-60-18-12-2024/
LOCATION:Tribunal Electoral del Estado de San Luis Potosí\, Sierra Gador 116\, Lomas Cuarta Sección\, San Luis Potosí\, S.L.P. México\, San Luis Potosí\, 78216\, México
CATEGORIES:Sesiones,Sesiones jurisdiccionales
ORGANIZER;CN="Tribunal Electoral del Estado de San Luis Potos%C3%AD":MAILTO:sgteslp@outlook.com
END:VEVENT
END:VCALENDAR