BEGIN:VCALENDAR
VERSION:2.0
PRODID:-//Tribunal Electoral del Estado de San Luis Potosí - ECPv6.14.1//NONSGML v1.0//EN
CALSCALE:GREGORIAN
METHOD:PUBLISH
X-WR-CALNAME:Tribunal Electoral del Estado de San Luis Potosí
X-ORIGINAL-URL:https://www.teeslp.gob.mx
X-WR-CALDESC:Eventos para Tribunal Electoral del Estado de San Luis Potosí
REFRESH-INTERVAL;VALUE=DURATION:PT1H
X-Robots-Tag:noindex
X-PUBLISHED-TTL:PT1H
BEGIN:VTIMEZONE
TZID:America/Mexico_City
BEGIN:STANDARD
TZOFFSETFROM:-0600
TZOFFSETTO:-0600
TZNAME:CST
DTSTART:20240101T000000
END:STANDARD
END:VTIMEZONE
BEGIN:VEVENT
DTSTART;TZID=America/Mexico_City:20241106T050000
DTEND;TZID=America/Mexico_City:20241106T173000
DTSTAMP:20260424T141904
CREATED:20241105T210043Z
LAST-MODIFIED:20250724T203435Z
UID:34096-1730869200-1730914200@www.teeslp.gob.mx
SUMMARY:Sesión Jurisdiccional 53 (06-11-2024)
DESCRIPTION:  \n  \n\n\n\nNúmero\nAviso de sesión\nActa de Sesión\nAcuerdo(s)/Sentencia(s)\nVideo\n\n\n  \n53\n		\n		[icon type=”vector” icon=”momizat-icon-signup” align=”center” size=”32″ hover_animation=”border_increase” ]		\n		\n  \n[icon type=”vector” icon=”momizat-icon-file-pdf” align=”center” size=”32″ hover_animation=”border_increase” ]\n  \nTESLP/JDC/113/2024 \n﻿\n\n\n\n\n\n\n\n\n\n\n\n\n\n\n\n\n\n\n\n\n\n\n    \n  \n  \n  \n  \n  \n 
URL:https://www.teeslp.gob.mx/calendario/sesion-jurisdiccional-53-06-11-2024/
LOCATION:Tribunal Electoral del Estado de San Luis Potosí\, Sierra Gador 116\, Lomas Cuarta Sección\, San Luis Potosí\, S.L.P. México\, San Luis Potosí\, 78216\, México
CATEGORIES:Sesiones,Sesiones jurisdiccionales
ORGANIZER;CN="Tribunal Electoral del Estado de San Luis Potos%C3%AD":MAILTO:sgteslp@outlook.com
END:VEVENT
BEGIN:VEVENT
DTSTART;TZID=America/Mexico_City:20241108T070000
DTEND;TZID=America/Mexico_City:20241108T073000
DTSTAMP:20260424T141904
CREATED:20241107T201028Z
LAST-MODIFIED:20250724T203843Z
UID:34125-1731049200-1731051000@www.teeslp.gob.mx
SUMMARY:Sesión Jurisdiccional 54 (08-11-2024)
DESCRIPTION:  \n  \n\n\n\nNúmero\nAviso de sesión\nActa de Sesión\nAcuerdo(s)/Sentencia(s)\nVideo\n\n\n  \n54\n		\n		[icon type=”vector” icon=”momizat-icon-signup” align=”center” size=”32″ hover_animation=”border_increase” ]		\n		\n  \n[icon type=”vector” icon=”momizat-icon-file-pdf” align=”center” size=”32″ hover_animation=”border_increase” ]\n  \nTESLP/JDC/115/2024 \n﻿\n\n\n\n\n\nTESLP/JDC/118/2024 TESLP/JDC/119/2024  y TESLP/JDC/120/2024\n\n\n\n\n\n\n\n\n\n\n\n\n\n\n\n\n    \n  \n  \n  \n  \n  \n 
URL:https://www.teeslp.gob.mx/calendario/sesion-jurisdiccional-54-08-11-2024/
LOCATION:Tribunal Electoral del Estado de San Luis Potosí\, Sierra Gador 116\, Lomas Cuarta Sección\, San Luis Potosí\, S.L.P. México\, San Luis Potosí\, 78216\, México
CATEGORIES:Sesiones,Sesiones jurisdiccionales
ORGANIZER;CN="Tribunal Electoral del Estado de San Luis Potos%C3%AD":MAILTO:sgteslp@outlook.com
END:VEVENT
BEGIN:VEVENT
DTSTART;TZID=America/Mexico_City:20241114T050000
DTEND;TZID=America/Mexico_City:20241114T053000
DTSTAMP:20260424T141904
CREATED:20241113T181838Z
LAST-MODIFIED:20250729T172324Z
UID:34161-1731560400-1731562200@www.teeslp.gob.mx
SUMMARY:Sesión Jurisdiccional 55 (14-11-2024)
DESCRIPTION:  \n  \n\n\n\nNúmero\nAviso de sesión\nActa de Sesión\nAcuerdo(s)/Sentencia(s)\nVideo\n\n\n  \n55\n		\n		[icon type=”vector” icon=”momizat-icon-signup” align=”center” size=”32″ hover_animation=”border_increase” ]		\n		\n  \n[icon type=”vector” icon=”momizat-icon-file-pdf” align=”center” size=”32″ hover_animation=”border_increase” ]\n  \nTESLP/JDC/116/2024 \n﻿\n\n\n\n\n\nTESLP/JDC/111/2024 y TESLP/JDC/112/2024 \n\n\n\n\n\nTESLP/JDC/114/2024 \n\n\n\n\n\n\n\n\n\n\n    \n  \n  \n  \n  \n  \n 
URL:https://www.teeslp.gob.mx/calendario/sesion-jurisdiccional-55-14-11-2024/
LOCATION:Tribunal Electoral del Estado de San Luis Potosí\, Sierra Gador 116\, Lomas Cuarta Sección\, San Luis Potosí\, S.L.P. México\, San Luis Potosí\, 78216\, México
CATEGORIES:Sesiones,Sesiones jurisdiccionales
ORGANIZER;CN="Tribunal Electoral del Estado de San Luis Potos%C3%AD":MAILTO:sgteslp@outlook.com
END:VEVENT
BEGIN:VEVENT
DTSTART;TZID=America/Mexico_City:20241120T070000
DTEND;TZID=America/Mexico_City:20241120T073000
DTSTAMP:20260424T141904
CREATED:20241119T181356Z
LAST-MODIFIED:20250729T172426Z
UID:34202-1732086000-1732087800@www.teeslp.gob.mx
SUMMARY:Sesión Jurisdiccional 56 (20-11-2024)
DESCRIPTION:  \n  \n\n\n\nNúmero\nAviso de sesión\nActa de Sesión\nAcuerdo(s)/Sentencia(s)\nVideo\n\n\n  \n56\n		\n		[icon type=”vector” icon=”momizat-icon-signup” align=”center” size=”32″ hover_animation=”border_increase” ]		\n		\n  \n[icon type=”vector” icon=”momizat-icon-file-pdf” align=”center” size=”32″ hover_animation=”border_increase” ]\n  \nTESLP/JDC/117/2024 \n﻿\n\n\n\n\n\nTESLP/JDC/114/2024\n\n\n\n\n\n\n\n\n\n\n\n\n\n\n\n\n    \n  \n  \n  \n  \n  \n 
URL:https://www.teeslp.gob.mx/calendario/sesion-jurisdiccional-56-20-11-2024/
LOCATION:Tribunal Electoral del Estado de San Luis Potosí\, Sierra Gador 116\, Lomas Cuarta Sección\, San Luis Potosí\, S.L.P. México\, San Luis Potosí\, 78216\, México
CATEGORIES:Sesiones,Sesiones jurisdiccionales
ORGANIZER;CN="Tribunal Electoral del Estado de San Luis Potos%C3%AD":MAILTO:sgteslp@outlook.com
END:VEVENT
BEGIN:VEVENT
DTSTART;TZID=America/Mexico_City:20241128T073000
DTEND;TZID=America/Mexico_City:20241128T080000
DTSTAMP:20260424T141904
CREATED:20241127T205300Z
LAST-MODIFIED:20250729T172526Z
UID:34330-1732779000-1732780800@www.teeslp.gob.mx
SUMMARY:Sesión Jurisdiccional 57 (28-11-2024)
DESCRIPTION:  \n  \n\n\n\nNúmero\nAviso de sesión\nActa de Sesión\nAcuerdo(s)/Sentencia(s)\nVideo\n\n\n  \n57\n		\n		[icon type=”vector” icon=”momizat-icon-signup” align=”center” size=”32″ hover_animation=”border_increase” ]		\n		\n  \n[icon type=”vector” icon=”momizat-icon-file-pdf” align=”center” size=”32″ hover_animation=”border_increase” ]\n  \nTESLP/JDC/97/2024\n﻿\n\n\n\n\n\nTESLP/JDC/114/2024 \n\n\n\n\n\nTESLP/JDC/94/2024\n\n\n\n\n\n\n\n\n\n\n    \n  \n  \n  \n  \n  \n 
URL:https://www.teeslp.gob.mx/calendario/sesion-jurisdiccional-57-28-11-2024/
LOCATION:Tribunal Electoral del Estado de San Luis Potosí\, Sierra Gador 116\, Lomas Cuarta Sección\, San Luis Potosí\, S.L.P. México\, San Luis Potosí\, 78216\, México
CATEGORIES:Sesiones,Sesiones jurisdiccionales
ORGANIZER;CN="Tribunal Electoral del Estado de San Luis Potos%C3%AD":MAILTO:sgteslp@outlook.com
END:VEVENT
END:VCALENDAR