BEGIN:VCALENDAR
VERSION:2.0
PRODID:-//Tribunal Electoral del Estado de San Luis Potosí - ECPv6.14.1//NONSGML v1.0//EN
CALSCALE:GREGORIAN
METHOD:PUBLISH
X-WR-CALNAME:Tribunal Electoral del Estado de San Luis Potosí
X-ORIGINAL-URL:https://www.teeslp.gob.mx
X-WR-CALDESC:Eventos para Tribunal Electoral del Estado de San Luis Potosí
REFRESH-INTERVAL;VALUE=DURATION:PT1H
X-Robots-Tag:noindex
X-PUBLISHED-TTL:PT1H
BEGIN:VTIMEZONE
TZID:America/Mexico_City
BEGIN:STANDARD
TZOFFSETFROM:-0600
TZOFFSETTO:-0600
TZNAME:CST
DTSTART:20240101T000000
END:STANDARD
END:VTIMEZONE
BEGIN:VEVENT
DTSTART;TZID=America/Mexico_City:20240204T040000
DTEND;TZID=America/Mexico_City:20240204T043000
DTSTAMP:20260425T060758
CREATED:20240202T201150Z
LAST-MODIFIED:20240403T193843Z
UID:30169-1707019200-1707021000@www.teeslp.gob.mx
SUMMARY:Sesión Jurisdiccional 05 (04-02-2024)
DESCRIPTION:  \n  \n\n\n\nNúmero\nAviso de sesión\nActa de Sesión\nAcuerdo(s)/Sentencia(s)\nVideo\n\n\n  \n05\n		\n		[icon type=”vector” icon=”momizat-icon-signup” align=”center” size=”32″ hover_animation=”border_increase” ]		\n		\n  \n[icon type=”vector” icon=”momizat-icon-file-pdf” align=”center” size=”32″ hover_animation=”border_increase” ]\n  \nTESLP/RR/05/2024 \n \n﻿\n\n\n\n\n\n\n\n\n\n\n\n\n\n\n\n\n\n\n\n\n\n\n\n\n\n\n\n\n\n\n\n\n\n\n\n  \n  \n  \n  \n 
URL:https://www.teeslp.gob.mx/calendario/sesion-jurisdiccional-05-04-02-2024/
LOCATION:Tribunal Electoral del Estado de San Luis Potosí\, Sierra Gador 116\, Lomas Cuarta Sección\, San Luis Potosí\, S.L.P. México\, San Luis Potosí\, 78216\, México
CATEGORIES:Sesiones,Sesiones jurisdiccionales
ORGANIZER;CN="Tribunal Electoral del Estado de San Luis Potos%C3%AD":MAILTO:sgteslp@outlook.com
END:VEVENT
BEGIN:VEVENT
DTSTART;TZID=America/Mexico_City:20240207T060000
DTEND;TZID=America/Mexico_City:20240207T063000
DTSTAMP:20260425T060758
CREATED:20240206T184548Z
LAST-MODIFIED:20240403T194122Z
UID:30185-1707285600-1707287400@www.teeslp.gob.mx
SUMMARY:Sesión Jurisdiccional 06 (07-02-2024)
DESCRIPTION:  \n  \n\n\n\nNúmero\nAviso de sesión\nActa de Sesión\nAcuerdo(s)/Sentencia(s)\nVideo\n\n\n  \n06\n		\n		[icon type=”vector” icon=”momizat-icon-signup” align=”center” size=”32″ hover_animation=”border_increase” ]		\n		\n  \n[icon type=”vector” icon=”momizat-icon-file-pdf” align=”center” size=”32″ hover_animation=”border_increase” ]\n  \nTESLP/RR/13/2023  \n \n﻿\n\n\n\n\n\nTESLP/JDC/04/2024\n\n\n\n\n\nTESLP/JDC/03/2024\n\n\n\n\n\n\n\n\n\n\n\n\n\n\n\n\n\n\n\n\n\n\n\n  \n  \n  \n  \n 
URL:https://www.teeslp.gob.mx/calendario/sesion-jurisdiccional-06-07-02-2024/
LOCATION:Tribunal Electoral del Estado de San Luis Potosí\, Sierra Gador 116\, Lomas Cuarta Sección\, San Luis Potosí\, S.L.P. México\, San Luis Potosí\, 78216\, México
CATEGORIES:Sesiones,Sesiones jurisdiccionales
ORGANIZER;CN="Tribunal Electoral del Estado de San Luis Potos%C3%AD":MAILTO:sgteslp@outlook.com
END:VEVENT
BEGIN:VEVENT
DTSTART;TZID=America/Mexico_City:20240214T060000
DTEND;TZID=America/Mexico_City:20240214T063000
DTSTAMP:20260425T060758
CREATED:20240213T171233Z
LAST-MODIFIED:20240403T194309Z
UID:30249-1707890400-1707892200@www.teeslp.gob.mx
SUMMARY:Sesión Jurisdiccional 07 (14-02-2024)
DESCRIPTION:  \n  \n\n\n\nNúmero\nAviso de sesión\nActa de Sesión\nAcuerdo(s)/Sentencia(s)\nVideo\n\n\n  \n07\n		\n		[icon type=”vector” icon=”momizat-icon-signup” align=”center” size=”32″ hover_animation=”border_increase” ]		\n		\n  \n[icon type=”vector” icon=”momizat-icon-file-pdf” align=”center” size=”32″ hover_animation=”border_increase” ]\n  \nTESLP/JDC/05/2024 \n \n﻿\n\n\n\n\n\nTESLP/RR/08/2023 y su acumulado TESLP/RR/11/2023\n\n\n\n\n\nTESLP/JDC/29/2023\n\n\n\n\n\n\n\n\n\n\n\n\n\n\n\n\n\n\n\n\n\n\n\n  \n  \n  \n  \n 
URL:https://www.teeslp.gob.mx/calendario/sesion-jurisdiccional-07-14-02-2024/
LOCATION:Tribunal Electoral del Estado de San Luis Potosí\, Sierra Gador 116\, Lomas Cuarta Sección\, San Luis Potosí\, S.L.P. México\, San Luis Potosí\, 78216\, México
CATEGORIES:Sesiones,Sesiones jurisdiccionales
ORGANIZER;CN="Tribunal Electoral del Estado de San Luis Potos%C3%AD":MAILTO:sgteslp@outlook.com
END:VEVENT
BEGIN:VEVENT
DTSTART;TZID=America/Mexico_City:20240220T070000
DTEND;TZID=America/Mexico_City:20240220T073000
DTSTAMP:20260425T060758
CREATED:20240220T201111Z
LAST-MODIFIED:20240702T165733Z
UID:30310-1708412400-1708414200@www.teeslp.gob.mx
SUMMARY:Sesión Jurisdiccional 08 (21-02-2024)
DESCRIPTION:  \n  \n\n\n\nNúmero\nAviso de sesión\nActa de Sesión\nAcuerdo(s)/Sentencia(s)\nVideo\n\n\n  \n08\n		\n		[icon type=”vector” icon=”momizat-icon-signup” align=”center” size=”32″ hover_animation=”border_increase” ]		\n		\n  \n[icon type=”vector” icon=”momizat-icon-file-pdf” align=”center” size=”32″ hover_animation=”border_increase” ]\n  \nTESLP/RR/06/2024 \n \n﻿\n\n\n\n\n\nTESLP/JDC/36/2023\n\n\n\n\n\n\n\n\n\n\n\n\n\n\n\n\n\n\n\n\n\n\n\n\n\n\n\n\n\n  \n  \n  \n  \n 
URL:https://www.teeslp.gob.mx/calendario/sesion-jurisdiccional-08-21-02-2024/
LOCATION:Tribunal Electoral del Estado de San Luis Potosí\, Sierra Gador 116\, Lomas Cuarta Sección\, San Luis Potosí\, S.L.P. México\, San Luis Potosí\, 78216\, México
CATEGORIES:Sesiones,Sesiones jurisdiccionales
ORGANIZER;CN="Tribunal Electoral del Estado de San Luis Potos%C3%AD":MAILTO:sgteslp@outlook.com
END:VEVENT
BEGIN:VEVENT
DTSTART;TZID=America/Mexico_City:20240228T070000
DTEND;TZID=America/Mexico_City:20240228T073000
DTSTAMP:20260425T060759
CREATED:20240227T200636Z
LAST-MODIFIED:20240702T165933Z
UID:30411-1709103600-1709105400@www.teeslp.gob.mx
SUMMARY:Sesión Jurisdiccional 09 (28-02-2024)
DESCRIPTION:  \n  \n\n\n\nNúmero\nAviso de sesión\nActa de Sesión\nAcuerdo(s)/Sentencia(s)\nVideo\n\n\n  \n09\n		\n		[icon type=”vector” icon=”momizat-icon-signup” align=”center” size=”32″ hover_animation=”border_increase” ]		\n		\n  \n[icon type=”vector” icon=”momizat-icon-file-pdf” align=”center” size=”32″ hover_animation=”border_increase” ]\n  \nTESLP/JDC/15/2024 \n \n﻿\n\n\n\n\n\nTESLP/JDC/32/2023\n\n\n\n\n\nTESLP/JDC/35/2023\n\n\n\n\n\nTESLP/JDC/16/2024 \n\n\n\n\n\nTESLP/RR/07/2024 \n\n\n\n\n\n\n\n\n\n\n\n  \n  \n  \n  \n 
URL:https://www.teeslp.gob.mx/calendario/sesion-jurisdiccional-09-28-02-2024/
LOCATION:Tribunal Electoral del Estado de San Luis Potosí\, Sierra Gador 116\, Lomas Cuarta Sección\, San Luis Potosí\, S.L.P. México\, San Luis Potosí\, 78216\, México
CATEGORIES:Sesiones,Sesiones jurisdiccionales
ORGANIZER;CN="Tribunal Electoral del Estado de San Luis Potos%C3%AD":MAILTO:sgteslp@outlook.com
END:VEVENT
END:VCALENDAR